BEGIN:VCALENDAR
VERSION:2.0
PRODID:-//Shums Coda - ECPv6.15.18//NONSGML v1.0//EN
CALSCALE:GREGORIAN
METHOD:PUBLISH
X-WR-CALNAME:Shums Coda
X-ORIGINAL-URL:https://www.shumscoda.com
X-WR-CALDESC:Events for Shums Coda
REFRESH-INTERVAL;VALUE=DURATION:PT1H
X-Robots-Tag:noindex
X-PUBLISHED-TTL:PT1H
BEGIN:VTIMEZONE
TZID:America/Chicago
BEGIN:DAYLIGHT
TZOFFSETFROM:-0600
TZOFFSETTO:-0500
TZNAME:CDT
DTSTART:20240310T080000
END:DAYLIGHT
BEGIN:STANDARD
TZOFFSETFROM:-0500
TZOFFSETTO:-0600
TZNAME:CST
DTSTART:20241103T070000
END:STANDARD
BEGIN:DAYLIGHT
TZOFFSETFROM:-0600
TZOFFSETTO:-0500
TZNAME:CDT
DTSTART:20250309T080000
END:DAYLIGHT
BEGIN:STANDARD
TZOFFSETFROM:-0500
TZOFFSETTO:-0600
TZNAME:CST
DTSTART:20251102T070000
END:STANDARD
BEGIN:DAYLIGHT
TZOFFSETFROM:-0600
TZOFFSETTO:-0500
TZNAME:CDT
DTSTART:20260308T080000
END:DAYLIGHT
BEGIN:STANDARD
TZOFFSETFROM:-0500
TZOFFSETTO:-0600
TZNAME:CST
DTSTART:20261101T070000
END:STANDARD
BEGIN:DAYLIGHT
TZOFFSETFROM:-0600
TZOFFSETTO:-0500
TZNAME:CDT
DTSTART:20270314T080000
END:DAYLIGHT
BEGIN:STANDARD
TZOFFSETFROM:-0500
TZOFFSETTO:-0600
TZNAME:CST
DTSTART:20271107T070000
END:STANDARD
END:VTIMEZONE
BEGIN:VEVENT
DTSTART;TZID=America/Chicago:20260108T080000
DTEND;TZID=America/Chicago:20260108T090000
DTSTAMP:20260421T015715
CREATED:20260112T190547Z
LAST-MODIFIED:20260112T190547Z
UID:10000480-1767859200-1767862800@www.shumscoda.com
SUMMARY:Commercial Compliance Paths for Plan Review
DESCRIPTION:Instructor: Hope Medina Description: This session takes a look at the flexibility and options provided in the International Energy Conservation Code in determining paths of demonstrating code compliance. Attendees will review what type of documentation is needed for each path. We will look at how COMcheck\, ASHRAE 90.1\, and Energy Raters\, are used as compliance metrics and how the “Mandatory” items of the code are affected or put into play depending on the compliance path chosen in the design process.
URL:https://www.shumscoda.com/event/commercial-compliance-paths-for-plan-review-2/
LOCATION:Virtual
ORGANIZER;CN="Minnesota Energy Code Support Program":MAILTO:MNECSP@shumscoda.com
END:VEVENT
BEGIN:VEVENT
DTSTART;TZID=America/Chicago:20251009T120000
DTEND;TZID=America/Chicago:20251009T130000
DTSTAMP:20260421T015715
CREATED:20251013T174905Z
LAST-MODIFIED:20251013T174905Z
UID:10000371-1760011200-1760014800@www.shumscoda.com
SUMMARY:Low-Energy & Unconditioned Building in the Energy Code
DESCRIPTION:Instructor: Joshua Harmon \nDescription: This course explores the unique compliance considerations for low-energy buildings and unconditioned spaces under state-adopted energy efficiency and construction codes. While some structures—such as storage buildings\, agricultural facilities\, certain low-energy occupancy types\, and unconditioned spaces—may qualify for exemptions or reduced requirements\, design and enforcement professionals must understand the limits of these exceptions and how they are applied in practice.
URL:https://www.shumscoda.com/event/low-energy-unconditioned-building-in-the-energy-code-2/
LOCATION:Virtual
ORGANIZER;CN="Minnesota Energy Code Support Program":MAILTO:MNECSP@shumscoda.com
END:VEVENT
BEGIN:VEVENT
DTSTART;TZID=America/Chicago:20251008T103000
DTEND;TZID=America/Chicago:20251008T233000
DTSTAMP:20260421T015715
CREATED:20251013T173313Z
LAST-MODIFIED:20251013T173313Z
UID:10000361-1759919400-1759966200@www.shumscoda.com
SUMMARY:Low-Energy & Unconditioned Building in the Energy Code
DESCRIPTION:Instructor: Joshua Harmon \nDescription: This course explores the unique compliance considerations for low-energy buildings and unconditioned spaces under state-adopted energy efficiency and construction codes. While some structures—such as storage buildings\, agricultural facilities\, certain low-energy occupancy types\, and unconditioned spaces—may qualify for exemptions or reduced requirements\, design and enforcement professionals must understand the limits of these exceptions and how they are applied in practice.
URL:https://www.shumscoda.com/event/low-energy-unconditioned-building-in-the-energy-code/
LOCATION:Virtual
ORGANIZER;CN="Minnesota Energy Code Support Program":MAILTO:MNECSP@shumscoda.com
END:VEVENT
BEGIN:VEVENT
DTSTART;TZID=America/Chicago:20251002T103000
DTEND;TZID=America/Chicago:20251002T233000
DTSTAMP:20260421T015715
CREATED:20251013T173151Z
LAST-MODIFIED:20251013T173151Z
UID:10000360-1759401000-1759447800@www.shumscoda.com
SUMMARY:Energy Plan Review for Fenestration & Doors
DESCRIPTION:Instructor: Joshua Harmon \nDescription: This course will review the various characteristics of fenestration that are addressed by the Energy Code to address proper mechanical design for heat loss and solar heat gain; occupant health and comfort resulting from uncontrolled air leakage\, and the role of fenestration in lighting and ventilation.
URL:https://www.shumscoda.com/event/energy-plan-review-for-fenestration-doors-2/
LOCATION:Virtual
ORGANIZER;CN="Minnesota Energy Code Support Program":MAILTO:MNECSP@shumscoda.com
END:VEVENT
BEGIN:VEVENT
DTSTART;TZID=America/Chicago:20251001T113000
DTEND;TZID=America/Chicago:20251001T130000
DTSTAMP:20260421T015715
CREATED:20251013T174413Z
LAST-MODIFIED:20251013T174413Z
UID:10000367-1759318200-1759323600@www.shumscoda.com
SUMMARY:A2L Refrigerants in Mechanical Equipment: What to Know and How it Impacts Design
DESCRIPTION:Instructor: Joshua Harmon \nDescription: This session provides an essential overview of the emerging use of A2L (mildly flammable) refrigerants in HVAC and refrigeration systems. With updated codes and standards allowing their use\, this class will help building professionals\, code officials\, and HVAC designers understand the unique properties\, safety considerations\, and design implications of incorporating A2L refrigerants into mechanical equipment. The session will cover regulatory compliance\, installation practices\, ventilation requirements\, and fire safety measures—equipping participants to assess and apply A2L refrigerants safely and effectively in both new construction and retrofit applications.
URL:https://www.shumscoda.com/event/a2l-refrigerants-in-mechanical-equipment-what-to-know-and-how-it-impacts-design/
LOCATION:Apple Valley Building Officials Association
ORGANIZER;CN="Minnesota Energy Code Support Program":MAILTO:MNECSP@shumscoda.com
END:VEVENT
END:VCALENDAR