BEGIN:VCALENDAR
VERSION:2.0
PRODID:-//Shums Coda - ECPv6.15.18//NONSGML v1.0//EN
CALSCALE:GREGORIAN
METHOD:PUBLISH
X-ORIGINAL-URL:https://www.shumscoda.com
X-WR-CALDESC:Events for Shums Coda
REFRESH-INTERVAL;VALUE=DURATION:PT1H
X-Robots-Tag:noindex
X-PUBLISHED-TTL:PT1H
BEGIN:VTIMEZONE
TZID:America/Denver
BEGIN:DAYLIGHT
TZOFFSETFROM:-0700
TZOFFSETTO:-0600
TZNAME:MDT
DTSTART:20250309T090000
END:DAYLIGHT
BEGIN:STANDARD
TZOFFSETFROM:-0600
TZOFFSETTO:-0700
TZNAME:MST
DTSTART:20251102T080000
END:STANDARD
BEGIN:DAYLIGHT
TZOFFSETFROM:-0700
TZOFFSETTO:-0600
TZNAME:MDT
DTSTART:20260308T090000
END:DAYLIGHT
BEGIN:STANDARD
TZOFFSETFROM:-0600
TZOFFSETTO:-0700
TZNAME:MST
DTSTART:20261101T080000
END:STANDARD
BEGIN:DAYLIGHT
TZOFFSETFROM:-0700
TZOFFSETTO:-0600
TZNAME:MDT
DTSTART:20270314T090000
END:DAYLIGHT
BEGIN:STANDARD
TZOFFSETFROM:-0600
TZOFFSETTO:-0700
TZNAME:MST
DTSTART:20271107T080000
END:STANDARD
END:VTIMEZONE
BEGIN:VEVENT
DTSTART;TZID=America/Denver:20260513T070000
DTEND;TZID=America/Denver:20260513T153000
DTSTAMP:20260425T123049
CREATED:20260325T173112Z
LAST-MODIFIED:20260325T173112Z
UID:10000544-1778655600-1778686200@www.shumscoda.com
SUMMARY:Outside the Box Plan Review
DESCRIPTION:Instructor: Steve Thomas Description: The class addresses the true intent of alternative and or performance-based code versus the prescriptive code. It encourages students to look outside the box when evaluating unusual conditions or projects. The ICC Performance Code for Buildings and Facilities® (ICCPC®) will be reviewed as part of this class. Although not widely adopted\, this code provides a method to deal with unusual conditions. It also describes the true intent of the I-Codes to assist in evaluating performance-based design.
URL:https://www.shumscoda.com/event/outside-the-box-plan-review-3/
LOCATION:Loveland Living Planet Aquarium\, 12033 S Lone Peak Pkwy\, Draper\, UT\, 12033\, United States
END:VEVENT
END:VCALENDAR