BEGIN:VCALENDAR
VERSION:2.0
PRODID:-//Shums Coda - ECPv6.15.18//NONSGML v1.0//EN
CALSCALE:GREGORIAN
METHOD:PUBLISH
X-WR-CALNAME:Shums Coda
X-ORIGINAL-URL:https://www.shumscoda.com
X-WR-CALDESC:Events for Shums Coda
REFRESH-INTERVAL;VALUE=DURATION:PT1H
X-Robots-Tag:noindex
X-PUBLISHED-TTL:PT1H
BEGIN:VTIMEZONE
TZID:America/Los_Angeles
BEGIN:DAYLIGHT
TZOFFSETFROM:-0800
TZOFFSETTO:-0700
TZNAME:PDT
DTSTART:20200308T100000
END:DAYLIGHT
BEGIN:STANDARD
TZOFFSETFROM:-0700
TZOFFSETTO:-0800
TZNAME:PST
DTSTART:20201101T090000
END:STANDARD
BEGIN:DAYLIGHT
TZOFFSETFROM:-0800
TZOFFSETTO:-0700
TZNAME:PDT
DTSTART:20210314T100000
END:DAYLIGHT
BEGIN:STANDARD
TZOFFSETFROM:-0700
TZOFFSETTO:-0800
TZNAME:PST
DTSTART:20211107T090000
END:STANDARD
BEGIN:DAYLIGHT
TZOFFSETFROM:-0800
TZOFFSETTO:-0700
TZNAME:PDT
DTSTART:20220313T100000
END:DAYLIGHT
BEGIN:STANDARD
TZOFFSETFROM:-0700
TZOFFSETTO:-0800
TZNAME:PST
DTSTART:20221106T090000
END:STANDARD
END:VTIMEZONE
BEGIN:VEVENT
DTSTART;VALUE=DATE:20210913
DTEND;VALUE=DATE:20210917
DTSTAMP:20260420T010524
CREATED:20210830T160909Z
LAST-MODIFIED:20230512T145017Z
UID:10000148-1631491200-1631836799@www.shumscoda.com
SUMMARY:CALBO San Ramon Education Week
DESCRIPTION:CALBO is hosting two Education Weeks this year with virtual and in-person attendance options. We will continue to work closely with local and state health departments to ensure that our Education Weeks follow the strictest safety protocols at the time of each event. \nRegister: https://www.calbo.org/calbo-education-week-registration
URL:https://www.shumscoda.com/event/calbo-san-ramon-education-week/
LOCATION:San Ramon Marriott\, 2600 Bishop Drive\, San Ramon\, CA\, 94583\, United States
END:VEVENT
END:VCALENDAR